Package: xmapbridge Version: 1.69.0 Command: /Library/Frameworks/R.framework/Resources/bin/R CMD INSTALL xmapbridge StartedAt: 2025-11-14 15:02:06 -0500 (Fri, 14 Nov 2025) EndedAt: 2025-11-14 15:02:09 -0500 (Fri, 14 Nov 2025) EllapsedTime: 2.3 seconds RetCode: 0 Status: OK