Package: xmapbridge Version: 1.69.0 Command: /Library/Frameworks/R.framework/Resources/bin/R CMD build --keep-empty-dirs --no-resave-data xmapbridge StartedAt: 2025-11-14 18:07:22 -0500 (Fri, 14 Nov 2025) EndedAt: 2025-11-14 18:07:37 -0500 (Fri, 14 Nov 2025) EllapsedTime: 15.2 seconds RetCode: 0 Status: OK PackageFile: xmapbridge_1.69.0.tar.gz PackageFileSize: 3.02 MiB