Package: xmapbridge Version: 1.69.0 Command: rm -rf xmapbridge.buildbin-libdir && mkdir xmapbridge.buildbin-libdir && /Users/biocbuild/BBS/utils/build-universal.sh xmapbridge_1.69.0.tar.gz /Library/Frameworks/R.framework/Resources/bin/R xmapbridge.buildbin-libdir StartedAt: 2025-11-14 23:56:56 -0500 (Fri, 14 Nov 2025) EndedAt: 2025-11-14 23:56:58 -0500 (Fri, 14 Nov 2025) EllapsedTime: 2.1 seconds RetCode: 0 Status: OK PackageFile: xmapbridge_1.69.0.tgz PackageFileSize: 1.763 MiB