Package: xmapbridge Version: 1.69.0 Maintainer: Chris Wirth MaintainerEmail: Christopher.Wirth at cruk.manchester.ac.uk git_url: https://git.bioconductor.org/packages/xmapbridge git_branch: devel git_last_commit: 2910a82 git_last_commit_date: 2025-10-29 10:01:42 -0500 (Wed, 29 Oct 2025)