Package: xenLite Version: 1.5.0 Command: /home/biocbuild/bbs-3.23-bioc/R/bin/R CMD INSTALL xenLite StartedAt: 2025-11-13 15:36:13 -0500 (Thu, 13 Nov 2025) EndedAt: 2025-11-13 15:36:48 -0500 (Thu, 13 Nov 2025) EllapsedTime: 35.2 seconds RetCode: 0 Status: OK