Package: xenLite Version: 1.5.0 Command: /home/biocbuild/bbs-3.23-bioc/R/bin/R CMD build --keep-empty-dirs --no-resave-data xenLite StartedAt: 2025-11-13 20:47:04 -0500 (Thu, 13 Nov 2025) EndedAt: 2025-11-13 20:48:00 -0500 (Thu, 13 Nov 2025) EllapsedTime: 56.1 seconds RetCode: 0 Status: OK PackageFile: xenLite_1.5.0.tar.gz PackageFileSize: 3.249 MiB