Package: xenLite Version: 1.5.0 Command: /Library/Frameworks/R.framework/Resources/bin/R CMD INSTALL xenLite StartedAt: 2025-11-13 15:15:09 -0500 (Thu, 13 Nov 2025) EndedAt: 2025-11-13 15:15:23 -0500 (Thu, 13 Nov 2025) EllapsedTime: 14.1 seconds RetCode: 0 Status: OK