Package: xenLite Version: 1.5.0 Command: /Library/Frameworks/R.framework/Resources/bin/R CMD build --keep-empty-dirs --no-resave-data xenLite StartedAt: 2025-11-13 18:10:15 -0500 (Thu, 13 Nov 2025) EndedAt: 2025-11-13 18:10:41 -0500 (Thu, 13 Nov 2025) EllapsedTime: 26.3 seconds RetCode: 0 Status: OK PackageFile: xenLite_1.5.0.tar.gz PackageFileSize: 3.35 MiB