Package: xenLite Version: 1.5.0 Maintainer: Vincent Carey MaintainerEmail: stvjc at channing.harvard.edu git_url: https://git.bioconductor.org/packages/xenLite git_branch: devel git_last_commit: 504f4e0 git_last_commit_date: 2025-10-29 11:31:51 -0500 (Wed, 29 Oct 2025)