Package: xcore Version: 1.15.0 Command: /home/biocbuild/bbs-3.23-bioc/R/bin/R CMD INSTALL xcore StartedAt: 2025-11-13 15:20:22 -0500 (Thu, 13 Nov 2025) EndedAt: 2025-11-13 15:20:46 -0500 (Thu, 13 Nov 2025) EllapsedTime: 23.7 seconds RetCode: 0 Status: OK