Package: xcore Version: 1.15.0 Command: /home/biocbuild/bbs-3.23-bioc/R/bin/R CMD build --keep-empty-dirs --no-resave-data xcore StartedAt: 2025-11-13 20:46:37 -0500 (Thu, 13 Nov 2025) EndedAt: 2025-11-13 20:48:02 -0500 (Thu, 13 Nov 2025) EllapsedTime: 85.1 seconds RetCode: 0 Status: OK PackageFile: xcore_1.15.0.tar.gz PackageFileSize: 2.408 MiB