Package: xcore Version: 1.15.0 Command: /Library/Frameworks/R.framework/Resources/bin/R CMD INSTALL xcore StartedAt: 2025-11-12 15:25:55 -0500 (Wed, 12 Nov 2025) EndedAt: 2025-11-12 15:25:56 -0500 (Wed, 12 Nov 2025) EllapsedTime: 1.1 seconds RetCode: 1 Status: ERROR