Package: xcore Version: 1.15.0 Command: /Library/Frameworks/R.framework/Resources/bin/R CMD build --keep-empty-dirs --no-resave-data xcore StartedAt: 2025-11-13 18:09:35 -0500 (Thu, 13 Nov 2025) EndedAt: 2025-11-13 18:10:15 -0500 (Thu, 13 Nov 2025) EllapsedTime: 40.4 seconds RetCode: 0 Status: OK PackageFile: xcore_1.15.0.tar.gz PackageFileSize: 2.407 MiB