Package: xcore Version: 1.15.0 Maintainer: Maciej MigdaƂ MaintainerEmail: mcjmigdal at gmail.com git_url: https://git.bioconductor.org/packages/xcore git_branch: devel git_last_commit: a7dbfb4 git_last_commit_date: 2025-10-29 11:15:21 -0500 (Wed, 29 Oct 2025)