Package: xcms Version: 4.9.0 Command: /home/biocbuild/bbs-3.23-bioc/R/bin/R CMD check --install=check:xcms.install-out.txt --library=/home/biocbuild/bbs-3.23-bioc/R/site-library --timings xcms_4.9.0.tar.gz StartedAt: 2025-11-12 05:14:19 -0500 (Wed, 12 Nov 2025) EndedAt: 2025-11-12 05:41:10 -0500 (Wed, 12 Nov 2025) EllapsedTime: 1611.6 seconds RetCode: 0 Status: OK CheckDir: xcms.Rcheck Warnings: 0