Package: xcms Version: 4.9.0 Command: /home/biocbuild/bbs-3.23-bioc/R/bin/R CMD build --keep-empty-dirs --no-resave-data xcms StartedAt: 2025-11-11 20:51:19 -0500 (Tue, 11 Nov 2025) EndedAt: 2025-11-11 20:55:51 -0500 (Tue, 11 Nov 2025) EllapsedTime: 271.8 seconds RetCode: 0 Status: OK PackageFile: xcms_4.9.0.tar.gz PackageFileSize: 9.136 MiB