Package: xcms Version: 4.9.0 Command: /Library/Frameworks/R.framework/Resources/bin/R CMD INSTALL xcms StartedAt: 2025-11-13 15:24:16 -0500 (Thu, 13 Nov 2025) EndedAt: 2025-11-13 15:24:52 -0500 (Thu, 13 Nov 2025) EllapsedTime: 36.7 seconds RetCode: 0 Status: OK