Package: wppi Version: 1.19.0 Command: /home/biocbuild/bbs-3.23-bioc/R/bin/R CMD build --keep-empty-dirs --no-resave-data wppi StartedAt: 2025-11-14 20:46:09 -0500 (Fri, 14 Nov 2025) EndedAt: 2025-11-14 20:52:39 -0500 (Fri, 14 Nov 2025) EllapsedTime: 389.6 seconds RetCode: 0 Status: OK PackageFile: wppi_1.19.0.tar.gz PackageFileSize: 647 KiB