Package: wppi Version: 1.19.0 Command: /Library/Frameworks/R.framework/Resources/bin/R CMD INSTALL wppi StartedAt: 2025-11-13 15:05:12 -0500 (Thu, 13 Nov 2025) EndedAt: 2025-11-13 15:05:18 -0500 (Thu, 13 Nov 2025) EllapsedTime: 5.5 seconds RetCode: 0 Status: OK