Package: wppi Version: 1.19.0 Maintainer: Ana Galhoz MaintainerEmail: ana.galhoz at helmholtz-muenchen.de git_url: https://git.bioconductor.org/packages/wppi git_branch: devel git_last_commit: 40fc535 git_last_commit_date: 2025-10-29 11:08:00 -0500 (Wed, 29 Oct 2025)