Package: wpm Version: 1.21.0 Command: /Library/Frameworks/R.framework/Resources/bin/R CMD INSTALL wpm StartedAt: 2025-11-14 15:13:33 -0500 (Fri, 14 Nov 2025) EndedAt: 2025-11-14 15:13:34 -0500 (Fri, 14 Nov 2025) EllapsedTime: 1.4 seconds RetCode: 0 Status: OK