Package: wpm Version: 1.21.0 Command: /Library/Frameworks/R.framework/Resources/bin/R CMD build --keep-empty-dirs --no-resave-data wpm StartedAt: 2025-11-14 18:06:05 -0500 (Fri, 14 Nov 2025) EndedAt: 2025-11-14 18:06:16 -0500 (Fri, 14 Nov 2025) EllapsedTime: 11.1 seconds RetCode: 0 Status: OK PackageFile: wpm_1.21.0.tar.gz PackageFileSize: 2.414 MiB