Package: wpm Version: 1.21.0 Maintainer: Helene Borges MaintainerEmail: borges.helene.sophie at gmail.com git_url: https://git.bioconductor.org/packages/wpm git_branch: devel git_last_commit: 2fda63e git_last_commit_date: 2025-10-29 11:00:38 -0500 (Wed, 29 Oct 2025)