Package: wiggleplotr Version: 1.35.0 Command: /home/biocbuild/bbs-3.23-bioc/R/bin/R CMD INSTALL wiggleplotr StartedAt: 2025-11-13 15:26:55 -0500 (Thu, 13 Nov 2025) EndedAt: 2025-11-13 15:27:00 -0500 (Thu, 13 Nov 2025) EllapsedTime: 5.1 seconds RetCode: 0 Status: OK