Package: wiggleplotr Version: 1.35.0 Command: /home/biocbuild/bbs-3.23-bioc/R/bin/R CMD build --keep-empty-dirs --no-resave-data wiggleplotr StartedAt: 2025-11-13 20:45:57 -0500 (Thu, 13 Nov 2025) EndedAt: 2025-11-13 20:46:33 -0500 (Thu, 13 Nov 2025) EllapsedTime: 36.0 seconds RetCode: 0 Status: OK PackageFile: wiggleplotr_1.35.0.tar.gz PackageFileSize: 335.7 KiB