Package: wiggleplotr Version: 1.35.0 Command: /Library/Frameworks/R.framework/Resources/bin/R CMD INSTALL wiggleplotr StartedAt: 2025-11-13 15:16:17 -0500 (Thu, 13 Nov 2025) EndedAt: 2025-11-13 15:16:19 -0500 (Thu, 13 Nov 2025) EllapsedTime: 2.1 seconds RetCode: 0 Status: OK