Package: wiggleplotr Version: 1.35.0 Command: /Library/Frameworks/R.framework/Resources/bin/R CMD check --install=check:wiggleplotr.install-out.txt --library=/Library/Frameworks/R.framework/Resources/library --no-vignettes --timings wiggleplotr_1.35.0.tar.gz StartedAt: 2025-11-13 23:16:16 -0500 (Thu, 13 Nov 2025) EndedAt: 2025-11-13 23:16:57 -0500 (Thu, 13 Nov 2025) EllapsedTime: 41.5 seconds RetCode: 0 Status: OK CheckDir: wiggleplotr.Rcheck Warnings: 0