Package: wiggleplotr Version: 1.35.0 Command: /Library/Frameworks/R.framework/Resources/bin/R CMD build --keep-empty-dirs --no-resave-data wiggleplotr StartedAt: 2025-11-13 18:09:09 -0500 (Thu, 13 Nov 2025) EndedAt: 2025-11-13 18:09:26 -0500 (Thu, 13 Nov 2025) EllapsedTime: 16.2 seconds RetCode: 0 Status: OK PackageFile: wiggleplotr_1.35.0.tar.gz PackageFileSize: 401.4 KiB