Package: wiggleplotr Version: 1.35.0 Command: rm -rf wiggleplotr.buildbin-libdir && mkdir wiggleplotr.buildbin-libdir && /Users/biocbuild/BBS/utils/build-universal.sh wiggleplotr_1.35.0.tar.gz /Library/Frameworks/R.framework/Resources/bin/R wiggleplotr.buildbin-libdir StartedAt: 2025-11-14 00:01:28 -0500 (Fri, 14 Nov 2025) EndedAt: 2025-11-14 00:01:31 -0500 (Fri, 14 Nov 2025) EllapsedTime: 3.1 seconds RetCode: 0 Status: OK PackageFile: wiggleplotr_1.35.0.tgz PackageFileSize: 464.3 KiB