Package: widgetTools Version: 1.89.0 Command: /home/biocbuild/bbs-3.23-bioc/R/bin/R CMD INSTALL widgetTools StartedAt: 2025-11-13 15:04:36 -0500 (Thu, 13 Nov 2025) EndedAt: 2025-11-13 15:05:03 -0500 (Thu, 13 Nov 2025) EllapsedTime: 27.1 seconds RetCode: 0 Status: OK