Package: widgetTools Version: 1.89.0 Command: /Library/Frameworks/R.framework/Resources/bin/R CMD INSTALL widgetTools StartedAt: 2025-11-13 15:02:43 -0500 (Thu, 13 Nov 2025) EndedAt: 2025-11-13 15:02:51 -0500 (Thu, 13 Nov 2025) EllapsedTime: 8.2 seconds RetCode: 0 Status: OK