Package: widgetTools Version: 1.89.0 Command: /Library/Frameworks/R.framework/Resources/bin/R CMD check --install=check:widgetTools.install-out.txt --library=/Library/Frameworks/R.framework/Resources/library --no-vignettes --timings widgetTools_1.89.0.tar.gz StartedAt: 2025-11-14 23:11:14 -0500 (Fri, 14 Nov 2025) EndedAt: 2025-11-14 23:11:31 -0500 (Fri, 14 Nov 2025) EllapsedTime: 17.2 seconds RetCode: 0 Status: OK CheckDir: widgetTools.Rcheck Warnings: 0