Package: widgetTools Version: 1.89.0 Command: rm -rf widgetTools.buildbin-libdir && mkdir widgetTools.buildbin-libdir && /Users/biocbuild/BBS/utils/build-universal.sh widgetTools_1.89.0.tar.gz /Library/Frameworks/R.framework/Resources/bin/R widgetTools.buildbin-libdir StartedAt: 2025-11-14 00:01:28 -0500 (Fri, 14 Nov 2025) EndedAt: 2025-11-14 00:01:34 -0500 (Fri, 14 Nov 2025) EllapsedTime: 6.2 seconds RetCode: 0 Status: OK PackageFile: widgetTools_1.89.0.tgz PackageFileSize: 451.3 KiB