Package: weitrix Version: 1.23.0 Command: /home/biocbuild/bbs-3.23-bioc/R/bin/R CMD INSTALL weitrix StartedAt: 2025-11-13 15:56:50 -0500 (Thu, 13 Nov 2025) EndedAt: 2025-11-13 15:57:19 -0500 (Thu, 13 Nov 2025) EllapsedTime: 29.0 seconds RetCode: 0 Status: OK