Package: weitrix Version: 1.23.0 Command: /Library/Frameworks/R.framework/Resources/bin/R CMD build --keep-empty-dirs --no-resave-data weitrix StartedAt: 2025-11-13 18:08:59 -0500 (Thu, 13 Nov 2025) EndedAt: 2025-11-13 18:12:46 -0500 (Thu, 13 Nov 2025) EllapsedTime: 226.5 seconds RetCode: 0 Status: OK PackageFile: weitrix_1.23.0.tar.gz PackageFileSize: 8.971 MiB