Package: webbioc Version: 1.83.0 Command: /home/biocbuild/bbs-3.23-bioc/R/bin/R CMD INSTALL webbioc StartedAt: 2025-11-13 15:45:06 -0500 (Thu, 13 Nov 2025) EndedAt: 2025-11-13 15:45:29 -0500 (Thu, 13 Nov 2025) EllapsedTime: 22.5 seconds RetCode: 0 Status: OK