Package: webbioc Version: 1.83.0 Command: /home/biocbuild/bbs-3.23-bioc/R/bin/R CMD check --install=check:webbioc.install-out.txt --library=/home/biocbuild/bbs-3.23-bioc/R/site-library --timings webbioc_1.83.0.tar.gz StartedAt: 2025-11-15 05:21:06 -0500 (Sat, 15 Nov 2025) EndedAt: 2025-11-15 05:22:48 -0500 (Sat, 15 Nov 2025) EllapsedTime: 102.1 seconds RetCode: 0 Status: OK CheckDir: webbioc.Rcheck Warnings: 0