Package: webbioc Version: 1.83.0 Command: /Library/Frameworks/R.framework/Resources/bin/R CMD INSTALL webbioc StartedAt: 2025-11-12 15:41:13 -0500 (Wed, 12 Nov 2025) EndedAt: 2025-11-12 15:41:21 -0500 (Wed, 12 Nov 2025) EllapsedTime: 8.7 seconds RetCode: 0 Status: OK