Package: webbioc Version: 1.83.0 Command: /Library/Frameworks/R.framework/Resources/bin/R CMD check --install=check:webbioc.install-out.txt --library=/Library/Frameworks/R.framework/Resources/library --no-vignettes --timings webbioc_1.83.0.tar.gz StartedAt: 2025-11-12 20:45:11 -0500 (Wed, 12 Nov 2025) EndedAt: 2025-11-12 20:45:55 -0500 (Wed, 12 Nov 2025) EllapsedTime: 43.6 seconds RetCode: 0 Status: OK CheckDir: webbioc.Rcheck Warnings: 0