Package: webbioc Version: 1.83.0 Command: /Library/Frameworks/R.framework/Resources/bin/R CMD build --keep-empty-dirs --no-resave-data webbioc StartedAt: 2025-11-12 17:28:32 -0500 (Wed, 12 Nov 2025) EndedAt: 2025-11-12 17:28:46 -0500 (Wed, 12 Nov 2025) EllapsedTime: 14.2 seconds RetCode: 0 Status: OK PackageFile: webbioc_1.83.0.tar.gz PackageFileSize: 311.2 KiB