Package: weaver Version: 1.77.0 Command: /home/biocbuild/bbs-3.23-bioc/R/bin/R CMD INSTALL weaver StartedAt: 2025-11-11 15:10:49 -0500 (Tue, 11 Nov 2025) EndedAt: 2025-11-11 15:11:24 -0500 (Tue, 11 Nov 2025) EllapsedTime: 35.2 seconds RetCode: 0 Status: OK