Package: weaver Version: 1.77.0 Command: /Library/Frameworks/R.framework/Resources/bin/R CMD INSTALL weaver StartedAt: 2025-11-13 15:04:01 -0500 (Thu, 13 Nov 2025) EndedAt: 2025-11-13 15:04:19 -0500 (Thu, 13 Nov 2025) EllapsedTime: 18.3 seconds RetCode: 0 Status: OK