Package: weaver Version: 1.77.0 Command: /Library/Frameworks/R.framework/Resources/bin/R CMD build --keep-empty-dirs --no-resave-data weaver StartedAt: 2025-11-13 18:08:48 -0500 (Thu, 13 Nov 2025) EndedAt: 2025-11-13 18:08:52 -0500 (Thu, 13 Nov 2025) EllapsedTime: 4.1 seconds RetCode: 0 Status: OK PackageFile: weaver_1.77.0.tar.gz PackageFileSize: 231.7 KiB