Package: weaver Version: 1.77.0 Command: rm -rf weaver.buildbin-libdir && mkdir weaver.buildbin-libdir && /Users/biocbuild/BBS/utils/build-universal.sh weaver_1.77.0.tar.gz /Library/Frameworks/R.framework/Resources/bin/R weaver.buildbin-libdir StartedAt: 2025-11-14 00:01:26 -0500 (Fri, 14 Nov 2025) EndedAt: 2025-11-14 00:01:28 -0500 (Fri, 14 Nov 2025) EllapsedTime: 2.1 seconds RetCode: 0 Status: OK PackageFile: weaver_1.77.0.tgz PackageFileSize: 272.3 KiB