Package: weaver Version: 1.77.0 Maintainer: Seth Falcon MaintainerEmail: seth at userprimary.net git_url: https://git.bioconductor.org/packages/weaver git_branch: devel git_last_commit: c4894fe git_last_commit_date: 2025-10-29 10:08:41 -0500 (Wed, 29 Oct 2025)