Package: wavClusteR Version: 2.45.0 Command: /home/biocbuild/bbs-3.23-bioc/R/bin/R CMD INSTALL wavClusteR StartedAt: 2025-11-23 15:40:38 -0500 (Sun, 23 Nov 2025) EndedAt: 2025-11-23 15:40:48 -0500 (Sun, 23 Nov 2025) EllapsedTime: 10.6 seconds RetCode: 1 Status: ERROR