Package: wavClusteR Version: 2.45.0 Command: /home/biocbuild/bbs-3.23-bioc/R/bin/R CMD build --keep-empty-dirs --no-resave-data wavClusteR StartedAt: 2025-11-23 20:44:33 -0500 (Sun, 23 Nov 2025) EndedAt: 2025-11-23 20:44:45 -0500 (Sun, 23 Nov 2025) EllapsedTime: 12.0 seconds RetCode: 1 Status: ERROR PackageFile: None PackageFileSize: NA