Package: wavClusteR Version: 2.45.0 Command: /Library/Frameworks/R.framework/Resources/bin/R CMD INSTALL wavClusteR StartedAt: 2025-11-14 15:20:50 -0500 (Fri, 14 Nov 2025) EndedAt: 2025-11-14 15:20:55 -0500 (Fri, 14 Nov 2025) EllapsedTime: 5.2 seconds RetCode: 1 Status: ERROR