Package: wateRmelon Version: 2.17.0 Command: /home/biocbuild/bbs-3.23-bioc/R/bin/R CMD INSTALL wateRmelon StartedAt: 2025-11-23 16:02:14 -0500 (Sun, 23 Nov 2025) EndedAt: 2025-11-23 16:03:08 -0500 (Sun, 23 Nov 2025) EllapsedTime: 54.1 seconds RetCode: 0 Status: OK