Package: wateRmelon Version: 2.17.0 Command: /Library/Frameworks/R.framework/Resources/bin/R CMD INSTALL wateRmelon StartedAt: 2025-11-14 15:32:23 -0500 (Fri, 14 Nov 2025) EndedAt: 2025-11-14 15:32:44 -0500 (Fri, 14 Nov 2025) EllapsedTime: 21.4 seconds RetCode: 0 Status: OK